BEGIN:VCALENDAR
VERSION:2.0
PRODID:-//CVJM Haubersbronn - ECPv6.15.20//NONSGML v1.0//EN
CALSCALE:GREGORIAN
METHOD:PUBLISH
X-WR-CALNAME:CVJM Haubersbronn
X-ORIGINAL-URL:https://www.cvjm-haubersbronn.de
X-WR-CALDESC:Veranstaltungen für CVJM Haubersbronn
REFRESH-INTERVAL;VALUE=DURATION:PT1H
X-Robots-Tag:noindex
X-PUBLISHED-TTL:PT1H
BEGIN:VTIMEZONE
TZID:Europe/Paris
BEGIN:DAYLIGHT
TZOFFSETFROM:+0100
TZOFFSETTO:+0200
TZNAME:CEST
DTSTART:20240331T010000
END:DAYLIGHT
BEGIN:STANDARD
TZOFFSETFROM:+0200
TZOFFSETTO:+0100
TZNAME:CET
DTSTART:20241027T010000
END:STANDARD
BEGIN:DAYLIGHT
TZOFFSETFROM:+0100
TZOFFSETTO:+0200
TZNAME:CEST
DTSTART:20250330T010000
END:DAYLIGHT
BEGIN:STANDARD
TZOFFSETFROM:+0200
TZOFFSETTO:+0100
TZNAME:CET
DTSTART:20251026T010000
END:STANDARD
BEGIN:DAYLIGHT
TZOFFSETFROM:+0100
TZOFFSETTO:+0200
TZNAME:CEST
DTSTART:20260329T010000
END:DAYLIGHT
BEGIN:STANDARD
TZOFFSETFROM:+0200
TZOFFSETTO:+0100
TZNAME:CET
DTSTART:20261025T010000
END:STANDARD
END:VTIMEZONE
BEGIN:VEVENT
DTSTART;VALUE=DATE:20250111
DTEND;VALUE=DATE:20250112
DTSTAMP:20260421T133954
CREATED:20231101T141252Z
LAST-MODIFIED:20241108T190552Z
UID:1542-1736553600-1736639999@www.cvjm-haubersbronn.de
SUMMARY:Christbaumaktion
DESCRIPTION:
URL:https://www.cvjm-haubersbronn.de/event/christbaumaktion
LOCATION:Parkplatz Friedhof
END:VEVENT
BEGIN:VEVENT
DTSTART;VALUE=DATE:20250126
DTEND;VALUE=DATE:20250127
DTSTAMP:20260421T133954
CREATED:20241117T160856Z
LAST-MODIFIED:20241117T164603Z
UID:2459-1737849600-1737935999@www.cvjm-haubersbronn.de
SUMMARY:Familienkreis - Januar
DESCRIPTION:Ansprechpartner: Steffi und Thomas Berroth \nSchlittschuhlaufen oder Schlittenfahren
URL:https://www.cvjm-haubersbronn.de/event/familienkreis-januar
END:VEVENT
END:VCALENDAR